Workbook
Name L_JaNein: Listen!$A$2:$A$3
Name L_JaNeinUnklar: Listen!$B$2:$B$4
Name L_JaNeinNA: Listen!$C$2:$C$4
Name L_Bereich: Listen!$D$2:$D$10
Name L_Rolle: Listen!$E$2:$E$4
Name L_Personen: Listen!$F$2:$F$12
Name L_Daten: Listen!$G$2:$G$12
Name L_BSPD: Listen!$H$2:$H$8
Name L_Profiling: Listen!$I$2:$I$4
Name L_Garantie: Listen!$J$2:$J$9
Name L_DSFA: Listen!$K$2:$K$5
Name L_Schutzziel: Listen!$L$2:$L$5
Name L_Kontrollart: Listen!$M$2:$M$17
Name L_TO: Listen!$N$2:$N$3
Name L_Umsetzung: Listen!$O$2:$O$5
Name L_Vertrag: Listen!$P$2:$P$4
Name L_Staaten: Listen!$Q$2:$Q$56

Sheet Start
B2: Verzeichnis der Bearbeitungstätigkeiten nach DSG
B3: Vorlage zum Vortrieb-Artikel, Stand Oktober 2026. Rechtsgrundlagen: Art. 12 DSG (SR 235.1), Art. 24 DSV (SR 235.11).
B4: Quelle: vortrieb.ch. Vorlage ohne Gewähr, keine Rechtsberatung im Einzelfall.
B5: So gehen Sie vor
B6: 1. Ausnahme unten prüfen. 2. Stammdaten ausfüllen. 3. Im Blatt Verzeichnis die acht Beispielzeilen anpassen und eigene Tätigkeiten ergänzen. 4. Sicherheitsmassnahmen im Blatt TOM beschreiben und per Nummer verknüpfen. 5. Auftragsbearbeiter erfassen. 6. Jede Änderung im Blatt Aenderungen festhalten.
B7: Hellgraue Felder sind Eingabefelder. Weisse Felder mit Formeln rechnen automatisch und sind gesperrt (Blattschutz ohne Passwort). Gelb erscheint, wenn eine Pflichtangabe nach Art. 12 Abs. 2 DSG fehlt. IDs in Kupfer und der Vermerk «Beispiel» kennzeichnen vorausgefüllte Beispielzeilen.
B9: Prüfung der Ausnahme nach Art. 24 DSV
B10: Anzahl Mitarbeitende am 1. Januar
B11: Stichjahr
B12: Bearbeiten Sie besonders schützenswerte Personendaten in grossem Umfang? (Art. 24 lit. a DSV)
B13: Führen Sie ein Profiling mit hohem Risiko durch? (Art. 24 lit. b DSV)
B14: Anzahl Tätigkeiten mit besonders schützenswerten Daten (aus Blatt Verzeichnis) | C14: =COUNTIF(Verzeichnis!$K$3:$K$1000,"Ja")
B15: Anzahl Tätigkeiten mit Profiling mit hohem Risiko | C15: =COUNTIF(Verzeichnis!$M$3:$M$1000,"Profiling mit hohem Risiko")
C16: =IF(AND(C12="Nein",C14>0),"Hinweis: "&C14&" Tätigkeit(en) mit besonders schützenswerten Daten. Umfang jährlich prüfen.","")
B17: Ergebnis | C17: =IF(OR(C10="",C12="",C13=""),"Bitte C10, C12 und C13 ausfüllen",IF(C10>=250,"Pflicht: 250 oder mehr Mitarbeitende (Art. 12 DSG)",IF(OR(C12="Ja",C13="Ja"),"Pflicht: Rückausnahme nach Art. 24 lit. a oder b DSV",IF(OR(C12="Unklar",C13="Unklar"),"Unklar: Fachperson beiziehen und Verzeichnis vorsorglich führen","Befreit nach Art. 24 DSV. Empfehlung: Verzeichnis trotzdem führen"))))
B19: Auch ohne Pflicht nützlich: Das Verzeichnis liefert die Angaben für die Datenschutzerklärung (Art. 19 DSG) und für Auskunftsbegehren, die innert 30 Tagen zu beantworten sind (Art. 25 DSG, Art. 18 DSV).
B21: Quellen: fedlex.admin.ch/eli/cc/2022/491/de (DSG), fedlex.admin.ch/eli/cc/2022/568/de (DSV), edoeb.admin.ch. Vorlage: vortrieb.ch

Sheet Stammdaten
A1: Angabe | B1: Eintrag | C1: Hinweis
A2: Verantwortlicher (Firma gemäss Handelsregister) | B2: Muster AG | C2: Pflicht (Art. 12 Abs. 2 lit. a DSG). Beispielwert ersetzen.
A3: Rechtsform | B3: Aktiengesellschaft | C3: Beispielwert ersetzen.
A4: UID | B4: CHE-000.000.000 | C4: Format CHE-123.456.789. Beispielwert ersetzen.
A5: Adresse | B5: Musterstrasse 1, 8000 Zürich | C5: Pflicht (Art. 12 Abs. 2 lit. a DSG). Beispielwert ersetzen.
A6: Kontakt für Datenschutzanfragen (E-Mail) | B6: datenschutz@muster.ch | C6: Pflicht (Art. 12 Abs. 2 lit. a DSG). Beispielwert ersetzen.
A7: Interne Verantwortung Verzeichnis (Name, Funktion) | B7: Leitung IT | C7: Beispielwert ersetzen.
A8: Datenschutzberaterin oder -berater (falls ernannt, Art. 10 DSG) | C8: Freiwillig für private Verantwortliche.
A9: Rolle im Konzern / Bemerkungen
A10: Version | B10: 1.0
A11: Stand (Datum) | C11: Datum im Format TT.MM.JJJJ.
A12: Freigegeben durch (Name, Datum)
A13: Mitarbeitende am 1. Januar | B13: =IF(Start!C10="","",Start!C10) | C13: Aus Blatt Start (Formel).
A14: Ergebnis Ausnahmeprüfung | B14: =Start!C17 | C14: Aus Blatt Start (Formel).

Sheet Verzeichnis
A1: ID | B1: Bearbeitungstätigkeit | C1: Bereich | D1: Verantwortliche Person intern | E1: Rolle des Unternehmens | F1: Systeme / Anwendungen | G1: Bearbeitungszweck | H1: Betroffene Personen (Hauptkategorie) | I1: Weitere betroffene Personen | J1: Kategorien Personendaten | K1: Besonders schützenswerte Daten? | L1: Art der besonders schützenswerten Daten | M1: Profiling | N1: Kategorien der Empfänger | O1: Auftragsbearbeiter (IDs) | P1: Bekanntgabe ins Ausland? | Q1: Hauptstaat | R1: Weitere Staaten | S1: Status Angemessenheit | T1: Garantie / Grundlage | U1: DPF-Prüfdatum (nur USA) | V1: Aufbewahrungsdauer oder Kriterium | W1: Grundlage der Frist | X1: Sicherheitsmassnahmen (TOM-IDs) | Y1: Information erfolgt in | Z1: DSFA | AA1: Letzte Prüfung | AB1: Nächste Prüfung | AC1: Status | AD1: Bemerkungen
A2: Format VT-01 | B2: Pflicht | G2: Pflicht, Art. 12 Abs. 2 lit. b DSG | H2: Pflicht, lit. c | I2: lit. c | J2: Pflicht, lit. c | K2: Art. 5 lit. c DSG | M2: Art. 5 lit. f und g DSG | N2: Pflicht, lit. d | P2: Pflicht, lit. g | Q2: lit. g | R2: lit. g | S2: Formel | T2: lit. g, Art. 16 und 17 DSG | V2: lit. e (wenn möglich) | X2: lit. f (wenn möglich) | Y2: Art. 19 DSG | Z2: Art. 22 DSG | AA2: Datum | AB2: Formel | AC2: Formel
A3: VT-01 | B3: Lohnbuchhaltung | C3: Personal | D3: Leitung Personal | E3: Verantwortlicher | F3: Lohnsoftware (Cloud), E-Banking | G3: Berechnung und Auszahlung der Löhne; Abrechnung mit AHV, Pensionskasse, Unfall- und Krankentaggeldversicherung sowie Quellensteuer | H3: Mitarbeitende | I3: Ehemalige Mitarbeitende; Angehörige (Kinderzulagen) | J3: Identifikationsdaten; Kontaktdaten; Vertragsdaten; Lohn- und Sozialversicherungsdaten; Bank- und Zahlungsdaten | K3: Nein | L3: keine | M3: Kein Profiling | N3: Sozialversicherungen; Steuerverwaltung; Bank; Treuhand oder Lohnsoftware-Anbieter als Auftragsbearbeiter | O3: AB-01 | P3: Nein | S3: =IF(P3="","",IF(P3="Nein","Keine Auslandbekanntgabe",IF(Q3="","Staat in Spalte Q erfassen",IF(Q3="Vereinigte Staaten",IF(T3="Swiss-U.S. DPF: Empfänger zertifiziert (Anhang 1 DSV)",IF(U3="","DPF-Prüfdatum fehlt","DPF geprüft am "&TEXT(DAY(U3),"00")&"."&TEXT(MONTH(U3),"00")&"."&YEAR(U3)),"USA: nur angemessen bei DPF-Zertifizierung, sonst Garantie nötig"),IF(COUNTIF(Laender_Anhang1!$B$3:$B$46,Q3)>0,"Angemessen nach Anhang 1 DSV","Garantie nach Art. 16 Abs. 2 DSG oder Ausnahme Art. 17 DSG nötig"))))) | V3: 10 Jahre ab Ende Geschäftsjahr für buchführungsrelevante Unterlagen; übrige Daten nach internem Löschkriterium | W3: Art. 958f OR; interne Regel | X3: T-01; T-02; T-03; T-05; T-10 | Y3: Personalreglement, Merkblatt Datenschutz Mitarbeitende | Z3: Nicht nötig | AB3: =IF(AA3="","",EDATE(AA3,12)) | AC3: =IF(B3="","",IF(AA3="","Noch nie geprüft",IF(AB3<TODAY(),"Überfällig",IF(AB3-TODAY()<=30,"Bald fällig","Aktuell")))) | AD3: Beispiel, an eigene Verhältnisse anpassen
A4: VT-02 | B4: Personaladministration (Personaldossier, Absenzen) | C4: Personal | D4: Leitung Personal | E4: Verantwortlicher | F4: HR-Software, Ablage Personaldossiers | G4: Führung des Arbeitsverhältnisses: Verträge, Absenzen, Qualifikationen, Arbeitszeugnisse | H4: Mitarbeitende | I4: Ehemalige Mitarbeitende; Angehörige / Notfallkontakte | J4: Identifikationsdaten; Kontaktdaten; Vertragsdaten; Gesundheitsdaten | K4: Ja | L4: Ziff. 2: Gesundheit, Intimsphäre, Rasse oder Ethnie | M4: Kein Profiling | N4: Vorgesetzte intern; Versicherungen (Krankentaggeld, Unfall); IT-Dienstleister als Auftragsbearbeiter | O4: AB-02 | P4: Nein | S4: =IF(P4="","",IF(P4="Nein","Keine Auslandbekanntgabe",IF(Q4="","Staat in Spalte Q erfassen",IF(Q4="Vereinigte Staaten",IF(T4="Swiss-U.S. DPF: Empfänger zertifiziert (Anhang 1 DSV)",IF(U4="","DPF-Prüfdatum fehlt","DPF geprüft am "&TEXT(DAY(U4),"00")&"."&TEXT(MONTH(U4),"00")&"."&YEAR(U4)),"USA: nur angemessen bei DPF-Zertifizierung, sonst Garantie nötig"),IF(COUNTIF(Laender_Anhang1!$B$3:$B$46,Q4)>0,"Angemessen nach Anhang 1 DSV","Garantie nach Art. 16 Abs. 2 DSG oder Ausnahme Art. 17 DSG nötig"))))) | V4: Arztzeugnisse: nach Abschluss des Falls löschen. Dossier: Kriterium Austritt plus intern festgelegte Frist (Beispielwert 5 Jahre) | W4: Interne Regel, mit Fachperson festlegen | X4: T-01; T-02; T-03; T-08; T-11 | Y4: Personalreglement | Z4: Geprüft: nicht nötig | AB4: =IF(AA4="","",EDATE(AA4,12)) | AC4: =IF(B4="","",IF(AA4="","Noch nie geprüft",IF(AB4<TODAY(),"Überfällig",IF(AB4-TODAY()<=30,"Bald fällig","Aktuell")))) | AD4: Beispiel. Gesundheitsdaten: Umfang jährlich prüfen (Art. 24 lit. a DSV).
A5: VT-03 | B5: Bewerbungsverfahren | C5: Personal | D5: Leitung Personal | E5: Verantwortlicher | F5: Stellenportal-Postfach, E-Mail, Ablage | G5: Prüfung von Bewerbungen und Durchführung des Auswahlverfahrens für offene Stellen | H5: Bewerbende | J5: Identifikationsdaten; Kontaktdaten; Bewerbungsdaten | K5: Nein | L5: keine | M5: Kein Profiling | N5: Linienvorgesetzte intern; Personalvermittler (falls beauftragt) | P5: Nein | S5: =IF(P5="","",IF(P5="Nein","Keine Auslandbekanntgabe",IF(Q5="","Staat in Spalte Q erfassen",IF(Q5="Vereinigte Staaten",IF(T5="Swiss-U.S. DPF: Empfänger zertifiziert (Anhang 1 DSV)",IF(U5="","DPF-Prüfdatum fehlt","DPF geprüft am "&TEXT(DAY(U5),"00")&"."&TEXT(MONTH(U5),"00")&"."&YEAR(U5)),"USA: nur angemessen bei DPF-Zertifizierung, sonst Garantie nötig"),IF(COUNTIF(Laender_Anhang1!$B$3:$B$46,Q5)>0,"Angemessen nach Anhang 1 DSV","Garantie nach Art. 16 Abs. 2 DSG oder Ausnahme Art. 17 DSG nötig"))))) | V5: Beispielwert: 3 Monate nach Absage löschen; länger nur mit Einwilligung (Talentpool) | W5: Interne Regel; Art. 6 Abs. 4 DSG | X5: T-01; T-02; T-11 | Y5: Datenschutzerklärung Website, Abschnitt Bewerbungen | Z5: Nicht nötig | AB5: =IF(AA5="","",EDATE(AA5,12)) | AC5: =IF(B5="","",IF(AA5="","Noch nie geprüft",IF(AB5<TODAY(),"Überfällig",IF(AB5-TODAY()<=30,"Bald fällig","Aktuell")))) | AD5: Beispiel, an eigene Verhältnisse anpassen
A6: VT-04 | B6: Kundenverwaltung und Verkauf (CRM) | C6: Verkauf | D6: Leitung Verkauf | E6: Verantwortlicher | F6: CRM (Cloud), Offerttool | G6: Verwaltung von Kunden- und Interessentenbeziehungen, Offerten, Auftragsabwicklung und Kundendienst | H6: Ansprechpersonen bei Geschäftskunden | I6: Kundinnen und Kunden (Privatpersonen); Interessentinnen und Interessenten | J6: Identifikationsdaten; Kontaktdaten; Vertragsdaten; Kommunikationsinhalte | K6: Nein | L6: keine | M6: Profiling | N6: Verkaufsteam intern; CRM-Anbieter als Auftragsbearbeiter | O6: AB-03 | P6: Ja | Q6: Deutschland | S6: =IF(P6="","",IF(P6="Nein","Keine Auslandbekanntgabe",IF(Q6="","Staat in Spalte Q erfassen",IF(Q6="Vereinigte Staaten",IF(T6="Swiss-U.S. DPF: Empfänger zertifiziert (Anhang 1 DSV)",IF(U6="","DPF-Prüfdatum fehlt","DPF geprüft am "&TEXT(DAY(U6),"00")&"."&TEXT(MONTH(U6),"00")&"."&YEAR(U6)),"USA: nur angemessen bei DPF-Zertifizierung, sonst Garantie nötig"),IF(COUNTIF(Laender_Anhang1!$B$3:$B$46,Q6)>0,"Angemessen nach Anhang 1 DSV","Garantie nach Art. 16 Abs. 2 DSG oder Ausnahme Art. 17 DSG nötig"))))) | T6: Angemessenheit nach Anhang 1 DSV (Art. 16 Abs. 1 DSG) | V6: Beispielwert: Kontakte ohne Geschäftsbeziehung nach 24 Monaten Inaktivität prüfen; Vertragsunterlagen nach Buchführungsfrist | W6: Interne Regel; Art. 958f OR | X6: T-01; T-02; T-04; T-05; T-10 | Y6: Datenschutzerklärung Website | Z6: Nicht nötig | AB6: =IF(AA6="","",EDATE(AA6,12)) | AC6: =IF(B6="","",IF(AA6="","Noch nie geprüft",IF(AB6<TODAY(),"Überfällig",IF(AB6-TODAY()<=30,"Bald fällig","Aktuell")))) | AD6: Beispiel. Profiling hier: einfache Kundensegmentierung, kein hohes Risiko. Rechenzentrum Deutschland angenommen.
A7: VT-05 | B7: Fakturierung, Debitoren und Buchhaltung | C7: Finanzen | D7: Leitung Finanzen | E7: Verantwortlicher | F7: ERP / Buchhaltungssoftware, E-Banking | G7: Rechnungsstellung, Debitorenbewirtschaftung, Mahnwesen und Buchführung | H7: Kundinnen und Kunden (Privatpersonen) | I7: Ansprechpersonen bei Geschäftskunden; Lieferanten und deren Ansprechpersonen | J7: Identifikationsdaten; Kontaktdaten; Vertragsdaten; Bank- und Zahlungsdaten | K7: Nein | L7: keine | M7: Kein Profiling | N7: Bank; Revisionsstelle; Treuhand; Steuerverwaltung; Inkassodienst (falls beauftragt) | O7: AB-01 | P7: Nein | S7: =IF(P7="","",IF(P7="Nein","Keine Auslandbekanntgabe",IF(Q7="","Staat in Spalte Q erfassen",IF(Q7="Vereinigte Staaten",IF(T7="Swiss-U.S. DPF: Empfänger zertifiziert (Anhang 1 DSV)",IF(U7="","DPF-Prüfdatum fehlt","DPF geprüft am "&TEXT(DAY(U7),"00")&"."&TEXT(MONTH(U7),"00")&"."&YEAR(U7)),"USA: nur angemessen bei DPF-Zertifizierung, sonst Garantie nötig"),IF(COUNTIF(Laender_Anhang1!$B$3:$B$46,Q7)>0,"Angemessen nach Anhang 1 DSV","Garantie nach Art. 16 Abs. 2 DSG oder Ausnahme Art. 17 DSG nötig"))))) | V7: 10 Jahre ab Ende Geschäftsjahr | W7: Art. 958f OR | X7: T-01; T-02; T-05; T-07 | Y7: Datenschutzerklärung Website; AGB | Z7: Nicht nötig | AB7: =IF(AA7="","",EDATE(AA7,12)) | AC7: =IF(B7="","",IF(AA7="","Noch nie geprüft",IF(AB7<TODAY(),"Überfällig",IF(AB7-TODAY()<=30,"Bald fällig","Aktuell")))) | AD7: Beispiel, an eigene Verhältnisse anpassen
A8: VT-06 | B8: E-Mail, Kalender und Zusammenarbeit | C8: IT | D8: Leitung IT | E8: Verantwortlicher | F8: Cloud-Office-Paket (E-Mail, Kalender, Dateiablage, Chat) | G8: Interne und externe Kommunikation, Terminplanung und gemeinsame Dokumentablage | H8: Mitarbeitende | I8: Ansprechpersonen bei Geschäftskunden; Lieferanten und deren Ansprechpersonen; Bewerbende | J8: Identifikationsdaten; Kontaktdaten; Kommunikationsinhalte; Nutzungs- und Gerätedaten | K8: Nein | L8: keine | M8: Kein Profiling | N8: Cloud-Anbieter als Auftragsbearbeiter; IT-Dienstleister als Auftragsbearbeiter | O8: AB-02; AB-04 | P8: Ja | Q8: Irland | R8: Vereinigte Staaten (Supportzugriff und Unterauftragnehmer gemäss Anbieterliste) | S8: =IF(P8="","",IF(P8="Nein","Keine Auslandbekanntgabe",IF(Q8="","Staat in Spalte Q erfassen",IF(Q8="Vereinigte Staaten",IF(T8="Swiss-U.S. DPF: Empfänger zertifiziert (Anhang 1 DSV)",IF(U8="","DPF-Prüfdatum fehlt","DPF geprüft am "&TEXT(DAY(U8),"00")&"."&TEXT(MONTH(U8),"00")&"."&YEAR(U8)),"USA: nur angemessen bei DPF-Zertifizierung, sonst Garantie nötig"),IF(COUNTIF(Laender_Anhang1!$B$3:$B$46,Q8)>0,"Angemessen nach Anhang 1 DSV","Garantie nach Art. 16 Abs. 2 DSG oder Ausnahme Art. 17 DSG nötig"))))) | T8: Angemessenheit nach Anhang 1 DSV (Art. 16 Abs. 1 DSG) | V8: Postfächer ausgetretener Mitarbeitender: Beispielwert 3 Monate nach Austritt; buchführungsrelevante Belege separat nach Art. 958f OR archivieren | W8: Interne Regel; Art. 958f OR | X8: T-01; T-02; T-03; T-04; T-05; T-06 | Y8: Datenschutzerklärung Website; Merkblatt Mitarbeitende | Z8: Nicht nötig | AB8: =IF(AA8="","",EDATE(AA8,12)) | AC8: =IF(B8="","",IF(AA8="","Noch nie geprüft",IF(AB8<TODAY(),"Überfällig",IF(AB8-TODAY()<=30,"Bald fällig","Aktuell")))) | AD8: Beispiel. Rechenzentrum EU angenommen. Für US-Zugriffe DPF-Zertifizierung des Anbieters prüfen oder Garantie nach Art. 16 Abs. 2 DSG festhalten.
A9: VT-07 | B9: Website: Kontaktformular und Webanalyse | C9: Marketing | D9: Leitung Marketing | E9: Verantwortlicher | F9: Website-CMS, Hosting, Webanalyse-Tool, Cookie-Banner | G9: Beantwortung von Anfragen über das Kontaktformular; statistische Auswertung der Websitenutzung zur Verbesserung des Angebots | H9: Websitebesuchende | I9: Interessentinnen und Interessenten | J9: Kontaktdaten; Kommunikationsinhalte; Nutzungs- und Gerätedaten (IP, Cookies) | K9: Nein | L9: keine | M9: Profiling | N9: Hosting-Anbieter als Auftragsbearbeiter; Anbieter Webanalyse | O9: AB-05; AB-06 | P9: Ja | Q9: Vereinigte Staaten | S9: =IF(P9="","",IF(P9="Nein","Keine Auslandbekanntgabe",IF(Q9="","Staat in Spalte Q erfassen",IF(Q9="Vereinigte Staaten",IF(T9="Swiss-U.S. DPF: Empfänger zertifiziert (Anhang 1 DSV)",IF(U9="","DPF-Prüfdatum fehlt","DPF geprüft am "&TEXT(DAY(U9),"00")&"."&TEXT(MONTH(U9),"00")&"."&YEAR(U9)),"USA: nur angemessen bei DPF-Zertifizierung, sonst Garantie nötig"),IF(COUNTIF(Laender_Anhang1!$B$3:$B$46,Q9)>0,"Angemessen nach Anhang 1 DSV","Garantie nach Art. 16 Abs. 2 DSG oder Ausnahme Art. 17 DSG nötig"))))) | T9: Swiss-U.S. DPF: Empfänger zertifiziert (Anhang 1 DSV) | V9: Kontaktanfragen: Beispielwert 12 Monate nach Erledigung; Analysedaten: gemäss Einstellung im Tool (Beispielwert 14 Monate) | W9: Interne Regel; Tool-Einstellung | X9: T-04; T-06; T-10 | Y9: Datenschutzerklärung Website; Cookie-Banner | Z9: Geprüft: nicht nötig | AB9: =IF(AA9="","",EDATE(AA9,12)) | AC9: =IF(B9="","",IF(AA9="","Noch nie geprüft",IF(AB9<TODAY(),"Überfällig",IF(AB9-TODAY()<=30,"Bald fällig","Aktuell")))) | AD9: Beispiel. Werbe-Tracking von Drittanbietern kann ein Profiling mit hohem Risiko bedeuten (EDÖB, Cookie-Leitfaden V. 1.1 vom 06.10.2025). Dann Art. 24 lit. b DSV prüfen.
A10: VT-08 | B10: Newsletter-Versand | C10: Marketing | D10: Leitung Marketing | E10: Verantwortlicher | F10: Newsletter-Tool (Cloud) | G10: Versand von Informationen zu Produkten und Veranstaltungen an angemeldete Empfängerinnen und Empfänger; Auswertung von Öffnungen und Klicks | H10: Newsletter-Abonnierende | I10: Kundinnen und Kunden (Privatpersonen); Ansprechpersonen bei Geschäftskunden | J10: Kontaktdaten; Nutzungs- und Gerätedaten (IP, Cookies) | K10: Nein | L10: keine | M10: Profiling | N10: Anbieter Newsletter-Tool als Auftragsbearbeiter | O10: AB-07 | P10: Ja | Q10: Deutschland | S10: =IF(P10="","",IF(P10="Nein","Keine Auslandbekanntgabe",IF(Q10="","Staat in Spalte Q erfassen",IF(Q10="Vereinigte Staaten",IF(T10="Swiss-U.S. DPF: Empfänger zertifiziert (Anhang 1 DSV)",IF(U10="","DPF-Prüfdatum fehlt","DPF geprüft am "&TEXT(DAY(U10),"00")&"."&TEXT(MONTH(U10),"00")&"."&YEAR(U10)),"USA: nur angemessen bei DPF-Zertifizierung, sonst Garantie nötig"),IF(COUNTIF(Laender_Anhang1!$B$3:$B$46,Q10)>0,"Angemessen nach Anhang 1 DSV","Garantie nach Art. 16 Abs. 2 DSG oder Ausnahme Art. 17 DSG nötig"))))) | T10: Angemessenheit nach Anhang 1 DSV (Art. 16 Abs. 1 DSG) | V10: Bis zur Abmeldung; danach nur E-Mail-Adresse in Sperrliste | W10: Interne Regel | X10: T-01; T-02; T-04; T-10 | Y10: Anmeldeformular; Datenschutzerklärung Website | Z10: Nicht nötig | AB10: =IF(AA10="","",EDATE(AA10,12)) | AC10: =IF(B10="","",IF(AA10="","Noch nie geprüft",IF(AB10<TODAY(),"Überfällig",IF(AB10-TODAY()<=30,"Bald fällig","Aktuell")))) | AD10: Beispiel. Serverstandort Deutschland angenommen.
S11: =IF(P11="","",IF(P11="Nein","Keine Auslandbekanntgabe",IF(Q11="","Staat in Spalte Q erfassen",IF(Q11="Vereinigte Staaten",IF(T11="Swiss-U.S. DPF: Empfänger zertifiziert (Anhang 1 DSV)",IF(U11="","DPF-Prüfdatum fehlt","DPF geprüft am "&TEXT(DAY(U11),"00")&"."&TEXT(MONTH(U11),"00")&"."&YEAR(U11)),"USA: nur angemessen bei DPF-Zertifizierung, sonst Garantie nötig"),IF(COUNTIF(Laender_Anhang1!$B$3:$B$46,Q11)>0,"Angemessen nach Anhang 1 DSV","Garantie nach Art. 16 Abs. 2 DSG oder Ausnahme Art. 17 DSG nötig"))))) | AB11: =IF(AA11="","",EDATE(AA11,12)) | AC11: =IF(B11="","",IF(AA11="","Noch nie geprüft",IF(AB11<TODAY(),"Überfällig",IF(AB11-TODAY()<=30,"Bald fällig","Aktuell"))))
S12: =IF(P12="","",IF(P12="Nein","Keine Auslandbekanntgabe",IF(Q12="","Staat in Spalte Q erfassen",IF(Q12="Vereinigte Staaten",IF(T12="Swiss-U.S. DPF: Empfänger zertifiziert (Anhang 1 DSV)",IF(U12="","DPF-Prüfdatum fehlt","DPF geprüft am "&TEXT(DAY(U12),"00")&"."&TEXT(MONTH(U12),"00")&"."&YEAR(U12)),"USA: nur angemessen bei DPF-Zertifizierung, sonst Garantie nötig"),IF(COUNTIF(Laender_Anhang1!$B$3:$B$46,Q12)>0,"Angemessen nach Anhang 1 DSV","Garantie nach Art. 16 Abs. 2 DSG oder Ausnahme Art. 17 DSG nötig"))))) | AB12: =IF(AA12="","",EDATE(AA12,12)) | AC12: =IF(B12="","",IF(AA12="","Noch nie geprüft",IF(AB12<TODAY(),"Überfällig",IF(AB12-TODAY()<=30,"Bald fällig","Aktuell"))))
S13: =IF(P13="","",IF(P13="Nein","Keine Auslandbekanntgabe",IF(Q13="","Staat in Spalte Q erfassen",IF(Q13="Vereinigte Staaten",IF(T13="Swiss-U.S. DPF: Empfänger zertifiziert (Anhang 1 DSV)",IF(U13="","DPF-Prüfdatum fehlt","DPF geprüft am "&TEXT(DAY(U13),"00")&"."&TEXT(MONTH(U13),"00")&"."&YEAR(U13)),"USA: nur angemessen bei DPF-Zertifizierung, sonst Garantie nötig"),IF(COUNTIF(Laender_Anhang1!$B$3:$B$46,Q13)>0,"Angemessen nach Anhang 1 DSV","Garantie nach Art. 16 Abs. 2 DSG oder Ausnahme Art. 17 DSG nötig"))))) | AB13: =IF(AA13="","",EDATE(AA13,12)) | AC13: =IF(B13="","",IF(AA13="","Noch nie geprüft",IF(AB13<TODAY(),"Überfällig",IF(AB13-TODAY()<=30,"Bald fällig","Aktuell"))))
S14: =IF(P14="","",IF(P14="Nein","Keine Auslandbekanntgabe",IF(Q14="","Staat in Spalte Q erfassen",IF(Q14="Vereinigte Staaten",IF(T14="Swiss-U.S. DPF: Empfänger zertifiziert (Anhang 1 DSV)",IF(U14="","DPF-Prüfdatum fehlt","DPF geprüft am "&TEXT(DAY(U14),"00")&"."&TEXT(MONTH(U14),"00")&"."&YEAR(U14)),"USA: nur angemessen bei DPF-Zertifizierung, sonst Garantie nötig"),IF(COUNTIF(Laender_Anhang1!$B$3:$B$46,Q14)>0,"Angemessen nach Anhang 1 DSV","Garantie nach Art. 16 Abs. 2 DSG oder Ausnahme Art. 17 DSG nötig"))))) | AB14: =IF(AA14="","",EDATE(AA14,12)) | AC14: =IF(B14="","",IF(AA14="","Noch nie geprüft",IF(AB14<TODAY(),"Überfällig",IF(AB14-TODAY()<=30,"Bald fällig","Aktuell"))))
S15: =IF(P15="","",IF(P15="Nein","Keine Auslandbekanntgabe",IF(Q15="","Staat in Spalte Q erfassen",IF(Q15="Vereinigte Staaten",IF(T15="Swiss-U.S. DPF: Empfänger zertifiziert (Anhang 1 DSV)",IF(U15="","DPF-Prüfdatum fehlt","DPF geprüft am "&TEXT(DAY(U15),"00")&"."&TEXT(MONTH(U15),"00")&"."&YEAR(U15)),"USA: nur angemessen bei DPF-Zertifizierung, sonst Garantie nötig"),IF(COUNTIF(Laender_Anhang1!$B$3:$B$46,Q15)>0,"Angemessen nach Anhang 1 DSV","Garantie nach Art. 16 Abs. 2 DSG oder Ausnahme Art. 17 DSG nötig"))))) | AB15: =IF(AA15="","",EDATE(AA15,12)) | AC15: =IF(B15="","",IF(AA15="","Noch nie geprüft",IF(AB15<TODAY(),"Überfällig",IF(AB15-TODAY()<=30,"Bald fällig","Aktuell"))))
S16: =IF(P16="","",IF(P16="Nein","Keine Auslandbekanntgabe",IF(Q16="","Staat in Spalte Q erfassen",IF(Q16="Vereinigte Staaten",IF(T16="Swiss-U.S. DPF: Empfänger zertifiziert (Anhang 1 DSV)",IF(U16="","DPF-Prüfdatum fehlt","DPF geprüft am "&TEXT(DAY(U16),"00")&"."&TEXT(MONTH(U16),"00")&"."&YEAR(U16)),"USA: nur angemessen bei DPF-Zertifizierung, sonst Garantie nötig"),IF(COUNTIF(Laender_Anhang1!$B$3:$B$46,Q16)>0,"Angemessen nach Anhang 1 DSV","Garantie nach Art. 16 Abs. 2 DSG oder Ausnahme Art. 17 DSG nötig"))))) | AB16: =IF(AA16="","",EDATE(AA16,12)) | AC16: =IF(B16="","",IF(AA16="","Noch nie geprüft",IF(AB16<TODAY(),"Überfällig",IF(AB16-TODAY()<=30,"Bald fällig","Aktuell"))))
S17: =IF(P17="","",IF(P17="Nein","Keine Auslandbekanntgabe",IF(Q17="","Staat in Spalte Q erfassen",IF(Q17="Vereinigte Staaten",IF(T17="Swiss-U.S. DPF: Empfänger zertifiziert (Anhang 1 DSV)",IF(U17="","DPF-Prüfdatum fehlt","DPF geprüft am "&TEXT(DAY(U17),"00")&"."&TEXT(MONTH(U17),"00")&"."&YEAR(U17)),"USA: nur angemessen bei DPF-Zertifizierung, sonst Garantie nötig"),IF(COUNTIF(Laender_Anhang1!$B$3:$B$46,Q17)>0,"Angemessen nach Anhang 1 DSV","Garantie nach Art. 16 Abs. 2 DSG oder Ausnahme Art. 17 DSG nötig"))))) | AB17: =IF(AA17="","",EDATE(AA17,12)) | AC17: =IF(B17="","",IF(AA17="","Noch nie geprüft",IF(AB17<TODAY(),"Überfällig",IF(AB17-TODAY()<=30,"Bald fällig","Aktuell"))))
S18: =IF(P18="","",IF(P18="Nein","Keine Auslandbekanntgabe",IF(Q18="","Staat in Spalte Q erfassen",IF(Q18="Vereinigte Staaten",IF(T18="Swiss-U.S. DPF: Empfänger zertifiziert (Anhang 1 DSV)",IF(U18="","DPF-Prüfdatum fehlt","DPF geprüft am "&TEXT(DAY(U18),"00")&"."&TEXT(MONTH(U18),"00")&"."&YEAR(U18)),"USA: nur angemessen bei DPF-Zertifizierung, sonst Garantie nötig"),IF(COUNTIF(Laender_Anhang1!$B$3:$B$46,Q18)>0,"Angemessen nach Anhang 1 DSV","Garantie nach Art. 16 Abs. 2 DSG oder Ausnahme Art. 17 DSG nötig"))))) | AB18: =IF(AA18="","",EDATE(AA18,12)) | AC18: =IF(B18="","",IF(AA18="","Noch nie geprüft",IF(AB18<TODAY(),"Überfällig",IF(AB18-TODAY()<=30,"Bald fällig","Aktuell"))))
S19: =IF(P19="","",IF(P19="Nein","Keine Auslandbekanntgabe",IF(Q19="","Staat in Spalte Q erfassen",IF(Q19="Vereinigte Staaten",IF(T19="Swiss-U.S. DPF: Empfänger zertifiziert (Anhang 1 DSV)",IF(U19="","DPF-Prüfdatum fehlt","DPF geprüft am "&TEXT(DAY(U19),"00")&"."&TEXT(MONTH(U19),"00")&"."&YEAR(U19)),"USA: nur angemessen bei DPF-Zertifizierung, sonst Garantie nötig"),IF(COUNTIF(Laender_Anhang1!$B$3:$B$46,Q19)>0,"Angemessen nach Anhang 1 DSV","Garantie nach Art. 16 Abs. 2 DSG oder Ausnahme Art. 17 DSG nötig"))))) | AB19: =IF(AA19="","",EDATE(AA19,12)) | AC19: =IF(B19="","",IF(AA19="","Noch nie geprüft",IF(AB19<TODAY(),"Überfällig",IF(AB19-TODAY()<=30,"Bald fällig","Aktuell"))))
S20: =IF(P20="","",IF(P20="Nein","Keine Auslandbekanntgabe",IF(Q20="","Staat in Spalte Q erfassen",IF(Q20="Vereinigte Staaten",IF(T20="Swiss-U.S. DPF: Empfänger zertifiziert (Anhang 1 DSV)",IF(U20="","DPF-Prüfdatum fehlt","DPF geprüft am "&TEXT(DAY(U20),"00")&"."&TEXT(MONTH(U20),"00")&"."&YEAR(U20)),"USA: nur angemessen bei DPF-Zertifizierung, sonst Garantie nötig"),IF(COUNTIF(Laender_Anhang1!$B$3:$B$46,Q20)>0,"Angemessen nach Anhang 1 DSV","Garantie nach Art. 16 Abs. 2 DSG oder Ausnahme Art. 17 DSG nötig"))))) | AB20: =IF(AA20="","",EDATE(AA20,12)) | AC20: =IF(B20="","",IF(AA20="","Noch nie geprüft",IF(AB20<TODAY(),"Überfällig",IF(AB20-TODAY()<=30,"Bald fällig","Aktuell"))))
S21: =IF(P21="","",IF(P21="Nein","Keine Auslandbekanntgabe",IF(Q21="","Staat in Spalte Q erfassen",IF(Q21="Vereinigte Staaten",IF(T21="Swiss-U.S. DPF: Empfänger zertifiziert (Anhang 1 DSV)",IF(U21="","DPF-Prüfdatum fehlt","DPF geprüft am "&TEXT(DAY(U21),"00")&"."&TEXT(MONTH(U21),"00")&"."&YEAR(U21)),"USA: nur angemessen bei DPF-Zertifizierung, sonst Garantie nötig"),IF(COUNTIF(Laender_Anhang1!$B$3:$B$46,Q21)>0,"Angemessen nach Anhang 1 DSV","Garantie nach Art. 16 Abs. 2 DSG oder Ausnahme Art. 17 DSG nötig"))))) | AB21: =IF(AA21="","",EDATE(AA21,12)) | AC21: =IF(B21="","",IF(AA21="","Noch nie geprüft",IF(AB21<TODAY(),"Überfällig",IF(AB21-TODAY()<=30,"Bald fällig","Aktuell"))))
S22: =IF(P22="","",IF(P22="Nein","Keine Auslandbekanntgabe",IF(Q22="","Staat in Spalte Q erfassen",IF(Q22="Vereinigte Staaten",IF(T22="Swiss-U.S. DPF: Empfänger zertifiziert (Anhang 1 DSV)",IF(U22="","DPF-Prüfdatum fehlt","DPF geprüft am "&TEXT(DAY(U22),"00")&"."&TEXT(MONTH(U22),"00")&"."&YEAR(U22)),"USA: nur angemessen bei DPF-Zertifizierung, sonst Garantie nötig"),IF(COUNTIF(Laender_Anhang1!$B$3:$B$46,Q22)>0,"Angemessen nach Anhang 1 DSV","Garantie nach Art. 16 Abs. 2 DSG oder Ausnahme Art. 17 DSG nötig"))))) | AB22: =IF(AA22="","",EDATE(AA22,12)) | AC22: =IF(B22="","",IF(AA22="","Noch nie geprüft",IF(AB22<TODAY(),"Überfällig",IF(AB22-TODAY()<=30,"Bald fällig","Aktuell"))))
... S200: =IF(P200="","",IF(P200="Nein","Keine Auslandbekanntgabe",IF(Q200="","Staat in Spalte Q erfassen",IF(Q200="Vereinigte Staaten",IF(T200="Swiss-U.S. DPF: Empfänger zertifiziert (Anhang 1 DSV)",IF(U200="","DPF-Prüfdatum fehlt","DPF geprüft am "&TEXT(DAY(U200),"00")&"."&TEXT(MONTH(U200),"00")&"."&YEAR(U200)),"USA: nur angemessen bei DPF-Zertifizierung, sonst Garantie nötig"),IF(COUNTIF(Laender_Anhang1!$B$3:$B$46,Q200)>0,"Angemessen nach Anhang 1 DSV","Garantie nach Art. 16 Abs. 2 DSG oder Ausnahme Art. 17 DSG nötig"))))) | AB200: =IF(AA200="","",EDATE(AA200,12)) | AC200: =IF(B200="","",IF(AA200="","Noch nie geprüft",IF(AB200<TODAY(),"Überfällig",IF(AB200-TODAY()<=30,"Bald fällig","Aktuell"))))

Sheet TOM
A1: Allgemeine Beschreibung der Datensicherheit nach Art. 12 Abs. 2 lit. f und Art. 8 DSG. Schutzziele nach Art. 2 DSV, Kontrollarten nach Art. 3 DSV. Vertiefung: EDÖB-Leitfaden TOM vom 15.01.2024.
A2: ID | B2: Massnahme | C2: Schutzziel | D2: Kontrollart nach Art. 3 DSV | E2: Technisch / Organisatorisch | F2: Umgesetzt | G2: Verantwortlich | H2: Nachweis / Dokument | I2: Letzte Prüfung | J2: Bemerkungen
A3: T-01 | B3: Zugriffsrechte nach Rollen, jährliche Rezertifizierung | C3: Vertraulichkeit | D3: Zugriffskontrolle | E3: Technisch | F3: Teilweise | J3: Beispiel, Status und Nachweis anpassen
A4: T-02 | B4: Mehrfaktor-Anmeldung für alle Cloud-Dienste und Fernzugriffe | C4: Vertraulichkeit | D4: Benutzerkontrolle | E4: Technisch | F4: Teilweise | J4: Beispiel, Status und Nachweis anpassen
A5: T-03 | B5: Vollverschlüsselung aller Notebooks und mobilen Geräte | C5: Vertraulichkeit | D5: Datenträgerkontrolle | E5: Technisch | F5: Teilweise | J5: Beispiel, Status und Nachweis anpassen
A6: T-04 | B6: Verschlüsselte Übertragung (TLS) für Website, E-Mail und Schnittstellen | C6: Integrität | D6: Transportkontrolle | E6: Technisch | F6: Teilweise | J6: Beispiel, Status und Nachweis anpassen
A7: T-05 | B7: Tägliche Datensicherung, Kopie ausser Haus, Wiederherstellungstest halbjährlich | C7: Verfügbarkeit | D7: Wiederherstellung | E7: Technisch | F7: Teilweise | J7: Beispiel, Status und Nachweis anpassen
A8: T-06 | B8: Patch-Management für Server, Clients und Website | C8: Integrität | D8: Systemsicherheit | E8: Technisch | F8: Teilweise | J8: Beispiel, Status und Nachweis anpassen
A9: T-07 | B9: Protokollierung von Änderungen in Buchhaltung und Lohn | C9: Nachvollziehbarkeit | D9: Eingabekontrolle | E9: Technisch | F9: Teilweise | J9: Beispiel, Status und Nachweis anpassen
A10: T-08 | B10: Abschliessbare Räume und Schränke für Papierdossiers und Technik | C10: Vertraulichkeit | D10: Zugangskontrolle | E10: Organisatorisch | F10: Teilweise | J10: Beispiel, Status und Nachweis anpassen
A11: T-09 | B11: Jährliche Schulung Datenschutz und Phishing | C11: Vertraulichkeit | D11: Benutzerkontrolle | E11: Organisatorisch | F11: Teilweise | J11: Beispiel, Status und Nachweis anpassen
A12: T-10 | B12: Verträge mit allen Auftragsbearbeitern nach Art. 9 DSG | C12: Vertraulichkeit | D12: Bekanntgabekontrolle | E12: Organisatorisch | F12: Teilweise | J12: Beispiel, Status und Nachweis anpassen
A13: T-11 | B13: Löschkonzept mit jährlichem Löschlauf | C13: Vertraulichkeit | D13: Speicherkontrolle | E13: Organisatorisch | F13: Teilweise | J13: Beispiel, Status und Nachweis anpassen
A14: T-12 | B14: Prozess zur Erkennung und Behandlung von Sicherheitsvorfällen | C14: Integrität | D14: Erkennung | E14: Organisatorisch | F14: Teilweise | J14: Beispiel, Status und Nachweis anpassen

Sheet Auftragsbearbeiter
A1: ID | B1: Name | C1: Leistung | D1: Sitz Land | E1: Datenstandorte | F1: Unterauftragnehmer-Liste vorhanden | G1: Vertrag nach Art. 9 DSG | H1: Vertragsdatum | I1: DPF-zertifiziert | J1: DPF-Prüfdatum | K1: Betrifft Tätigkeiten | L1: Nächste Prüfung | M1: Bemerkungen
A2: AB-01 | B2: Lohn- und Buchhaltungssoftware-Anbieter | C2: Bereitstellung Lohn- und Buchhaltungssoftware | K2: VT-01; VT-05 | L2: =IF(H2="","",EDATE(MAX(H2,J2),12)) | M2: Beispiel. Platzhalter durch echten Anbieter ersetzen.
A3: AB-02 | B3: IT-Dienstleister (Support, Betrieb) | C3: IT-Support und Betrieb der Systeme | K3: VT-02; VT-06 | L3: =IF(H3="","",EDATE(MAX(H3,J3),12)) | M3: Beispiel. Platzhalter durch echten Anbieter ersetzen.
A4: AB-03 | B4: CRM-Anbieter | C4: CRM-Software (Cloud) | K4: VT-04 | L4: =IF(H4="","",EDATE(MAX(H4,J4),12)) | M4: Beispiel. Platzhalter durch echten Anbieter ersetzen.
A5: AB-04 | B5: Cloud-Office-Anbieter | C5: E-Mail, Kalender, Dateiablage, Chat | K5: VT-06 | L5: =IF(H5="","",EDATE(MAX(H5,J5),12)) | M5: Beispiel. Platzhalter durch echten Anbieter ersetzen.
A6: AB-05 | B6: Hosting-Anbieter Website | C6: Hosting der Website und des Kontaktformulars | K6: VT-07 | L6: =IF(H6="","",EDATE(MAX(H6,J6),12)) | M6: Beispiel. Platzhalter durch echten Anbieter ersetzen.
A7: AB-06 | B7: Anbieter Webanalyse | C7: Statistische Auswertung der Websitenutzung | K7: VT-07 | L7: =IF(H7="","",EDATE(MAX(H7,J7),12)) | M7: Beispiel. Platzhalter durch echten Anbieter ersetzen.
A8: AB-07 | B8: Anbieter Newsletter-Tool | C8: Versand und Auswertung des Newsletters | K8: VT-08 | L8: =IF(H8="","",EDATE(MAX(H8,J8),12)) | M8: Beispiel. Platzhalter durch echten Anbieter ersetzen.
L9: =IF(H9="","",EDATE(MAX(H9,J9),12))
L10: =IF(H10="","",EDATE(MAX(H10,J10),12))
L11: =IF(H11="","",EDATE(MAX(H11,J11),12))
L12: =IF(H12="","",EDATE(MAX(H12,J12),12))
L13: =IF(H13="","",EDATE(MAX(H13,J13),12))
L14: =IF(H14="","",EDATE(MAX(H14,J14),12))
L15: =IF(H15="","",EDATE(MAX(H15,J15),12))
L16: =IF(H16="","",EDATE(MAX(H16,J16),12))
L17: =IF(H17="","",EDATE(MAX(H17,J17),12))
L18: =IF(H18="","",EDATE(MAX(H18,J18),12))
L19: =IF(H19="","",EDATE(MAX(H19,J19),12))
L20: =IF(H20="","",EDATE(MAX(H20,J20),12))
... L100: =IF(H100="","",EDATE(MAX(H100,J100),12))

Sheet Laender_Anhang1
A1: Staaten, Gebiete und internationale Organe mit angemessenem Datenschutz nach Anhang 1 DSV (SR 235.11), Fassung Stand 1. Dezember 2025. Vor Verwendung auf fedlex.admin.ch/eli/cc/2022/568/de#annex_1 prüfen.
A2: Nr | B2: Staat / Gebiet | C2: Bedingung / Hinweis
A3: 1 | B3: Deutschland
A4: 2 | B4: Andorra
A5: 3 | B5: Argentinien
A6: 4 | B6: Österreich
A7: 5 | B7: Belgien
A8: 6 | B8: Bulgarien
A9: 7 | B9: Kanada | C9: Nur soweit das Bundesgesetz über den Schutz von Personendaten im privaten Bereich (PIPEDA) oder ein gleichwertiges Provinzgesetz gilt.
A10: 8 | B10: Zypern
A11: 9 | B11: Kroatien
A12: 10 | B12: Dänemark
A13: 11 | B13: Spanien
A14: 12 | B14: Estland
A15: 13 | B15: Finnland
A16: 14 | B16: Frankreich
A17: 15 | B17: Gibraltar
A18: 16 | B18: Griechenland
A19: 17 | B19: Guernsey
A20: 18 | B20: Ungarn
A21: 19 | B21: Isle of Man
... A45: 43 | B45: Uruguay
A46: 44 | B46: Vereinigte Staaten | C46: Nur für Organisationen, die nach dem Swiss-U.S. Data Privacy Framework zertifiziert sind. Zertifizierung vor Übermittlung und jährlich auf dataprivacyframework.gov prüfen.
A48: Nicht auf der Liste (Auswahl, Garantie nach Art. 16 Abs. 2 DSG nötig): Japan, Südkorea, Indien, China, Singapur, Australien, Brasilien, Türkei, Vereinigte Arabische Emirate.

Sheet Aenderungen
A1: Datum | B1: Version | C1: Betroffene IDs | D1: Änderung | E1: Erfasst durch | F1: Freigabe
B2: 1.0 | C2: alle | D2: Erstfassung auf Basis der Vortrieb-Vorlage

Sheet Listen
A1: L_JaNein | B1: L_JaNeinUnklar | C1: L_JaNeinNA | D1: L_Bereich | E1: L_Rolle | F1: L_Personen | G1: L_Daten | H1: L_BSPD | I1: L_Profiling | J1: L_Garantie | K1: L_DSFA | L1: L_Schutzziel | M1: L_Kontrollart | N1: L_TO | O1: L_Umsetzung | P1: L_Vertrag | Q1: L_Staaten
A2: Ja | B2: Ja | C2: Ja | D2: Geschäftsleitung | E2: Verantwortlicher | F2: Mitarbeitende | G2: Identifikationsdaten | H2: keine | I2: Kein Profiling | J2: Angemessenheit nach Anhang 1 DSV (Art. 16 Abs. 1 DSG) | K2: Nicht nötig | L2: Vertraulichkeit | M2: Zugriffskontrolle | N2: Technisch | O2: Ja | P2: Ja | Q2: Schweiz
A3: Nein | B3: Nein | C3: Nein | D3: Personal | E3: Auftragsbearbeiter | F3: Ehemalige Mitarbeitende | G3: Kontaktdaten | H3: Ziff. 1: religiöse, weltanschauliche, politische oder gewerkschaftliche Ansichten oder Tätigkeiten | I3: Profiling | J3: Swiss-U.S. DPF: Empfänger zertifiziert (Anhang 1 DSV) | K3: Geprüft: nicht nötig | L3: Verfügbarkeit | M3: Zugangskontrolle | N3: Organisatorisch | O3: Teilweise | P3: In Arbeit | Q3: Deutschland
B4: Unklar | C4: nicht anwendbar | D4: Finanzen | E4: Gemeinsam Verantwortliche | F4: Bewerbende | G4: Vertragsdaten | H4: Ziff. 2: Gesundheit, Intimsphäre, Rasse oder Ethnie | I4: Profiling mit hohem Risiko | J4: Standarddatenschutzklauseln (Art. 16 Abs. 2 lit. d DSG) | K4: DSFA erstellt | L4: Integrität | M4: Benutzerkontrolle | O4: Geplant | P4: Nein | Q4: Andorra
D5: Verkauf | F5: Kundinnen und Kunden (Privatpersonen) | G5: Lohn- und Sozialversicherungsdaten | H5: Ziff. 3: genetische Daten | J5: Verbindliche unternehmensinterne Datenschutzvorschriften (Art. 16 Abs. 2 lit. e DSG) | K5: Offen | L5: Nachvollziehbarkeit | M5: Datenträgerkontrolle | O5: Nein | Q5: Argentinien
D6: Marketing | F6: Ansprechpersonen bei Geschäftskunden | G6: Bank- und Zahlungsdaten | H6: Ziff. 4: biometrische Daten zur eindeutigen Identifikation | J6: Datenschutzklauseln, dem EDÖB mitgeteilt (Art. 16 Abs. 2 lit. b DSG) | M6: Speicherkontrolle | Q6: Österreich
D7: Einkauf | F7: Lieferanten und deren Ansprechpersonen | G7: Bewerbungsdaten | H7: Ziff. 5: verwaltungs- und strafrechtliche Verfolgungen oder Sanktionen | J7: Ausdrückliche Einwilligung (Art. 17 Abs. 1 lit. a DSG) | M7: Transportkontrolle | Q7: Belgien
D8: IT | F8: Interessentinnen und Interessenten | G8: Kommunikationsinhalte | H8: Ziff. 6: Massnahmen der sozialen Hilfe | J8: Andere Ausnahme nach Art. 17 DSG | M8: Wiederherstellung | Q8: Bulgarien
D9: Produktion und Logistik | F9: Websitebesuchende | G9: Nutzungs- und Gerätedaten (IP, Cookies) | J9: Noch offen | M9: Verfügbarkeit | Q9: Kanada
D10: Kundendienst | F10: Newsletter-Abonnierende | G10: Bild- und Videodaten | M10: Zuverlässigkeit | Q10: Zypern
F11: Besuchende vor Ort | G11: Standortdaten | M11: Datenintegrität | Q11: Kroatien
F12: Angehörige / Notfallkontakte | G12: Gesundheitsdaten | M12: Systemsicherheit | Q12: Dänemark
M13: Eingabekontrolle | Q13: Spanien
M14: Bekanntgabekontrolle | Q14: Estland
M15: Erkennung | Q15: Finnland
M16: Beseitigung | Q16: Frankreich
M17: Andere | Q17: Gibraltar
Q18: Griechenland
Q19: Guernsey
Q20: Ungarn
Q21: Isle of Man
Q22: Färöer
Q23: Irland
Q24: Island
Q25: Israel
Q26: Italien
Q27: Jersey
Q28: Lettland
Q29: Liechtenstein
... Q56: Anderer Staat (in Spalte R nennen)
